BEGIN:VCALENDAR
PRODID:-//eluceo/ical//2.0/EN
VERSION:2.0
CALSCALE:GREGORIAN
BEGIN:VEVENT
UID:f251cf3b7d25240bb9ab05498a06346a
DTSTAMP:20260424T183847Z
SUMMARY:Gemeinsam Kochen
DESCRIPTION:Am Samstag\, den 15. Juni\, wollen wir wieder beim gemeinsamen 
 Kochen\, Essen und Trinken alte Freund*innen treffen\, neue Kontakte knüp
 fen\, voneinander lernen und ganz nebenbei in entspannter Atmosphäre deut
 sch sprechen…\nWir werden von 12:00 bis 16 Uhr im AWO Eltern-Kind-Zentru
 m (Röhrenstraße 6\, 14480 Potsdam) gemeinsam schnippeln\, braten\, rühr
 en\, uns austauschen und reden … und dabei einfach viel Spaß haben.\nDu
  bist Potsdamer*in\, oder du lebst schon lange in Potsdam oder bist erst n
 eu hier in Potsdam angekommen? – sei gern dabei\, wir freuen uns auf Dic
 h!\nUm die Lebensmittel zum Kochen kümmern wir uns / Kurze Anmeldung per 
 mail an: seidabei@awo-potsdam.de\n„Gemeinsam Kochen“ findet im Rahmen 
 des Projektes "Integration durch gemeinsame Erlebnisse" statt und wird gef
 ördert durch das Integrationsbudget der Landeshauptstadt Potsdam.\n \n#b
 uerokindermut #kindermut #echtawo #awopotsdam #integration #gemeinsamkoche
 n #teilhaben #richtigankommen #awoerleben #integration
URL:https://buero-kindermut.de/de/veranstaltung/gemeinsam-kochen-3/
DTSTART:20240615T120000
DTEND:20240615T160000
LOCATION:AWO Eltern-Kind-Zentrum
END:VEVENT
BEGIN:VTIMEZONE
TZID:Europe/Berlin
BEGIN:DAYLIGHT
DTSTART:20240615T120000
TZNAME:CEST
TZOFFSETTO:+0200
TZOFFSETFROM:+0200
END:DAYLIGHT
END:VTIMEZONE
END:VCALENDAR
