BEGIN:VCALENDAR
PRODID:-//eluceo/ical//2.0/EN
VERSION:2.0
CALSCALE:GREGORIAN
BEGIN:VEVENT
UID:31dd3165b923e373144522c75abd4f37
DTSTAMP:20260420T191940Z
SUMMARY:HURRA\, es ist Sonntag!
DESCRIPTION:HURRA\, ES IST SONNTAG! heißt es wieder am 17.11. von 10 – 1
 2:30 Uhr.\nGemeinsam mit dem Bürgerhaus STERN*ZEICHEN laden wir alleinerz
 iehende Mütter und Väter mit ihren Kindern dazu ein\, in gemütlicher At
 mosphäre zu brunchen\, sich auszutauschen und zu vernetzen. Sei dabei und
  lerne andere Mütter und Väter kennen\, die sich auch schon oft die Frag
 e gestellt haben: „Wie soll ich das alles nur unter einen Hut bringen?
 “\nDieses Mal bringt uns MiMiKa Musikalische Märchen und Mit-Mach-Liede
 r. Außerdem können Klein und Groß auch wieder selbst kreativ werden und
  Stabfiguren und Stoff-Püppchen gestalten.\nWir freuen uns auf Euch!
URL:https://buero-kindermut.de/de/veranstaltung/hurra-es-ist-sonntag-9/
DTSTART:20241117T100000
DTEND:20241117T123000
LOCATION:Bürgerhaus STERN*ZEICHEN
END:VEVENT
BEGIN:VTIMEZONE
TZID:Europe/Berlin
BEGIN:STANDARD
DTSTART:20241117T100000
TZNAME:CET
TZOFFSETTO:+0100
TZOFFSETFROM:+0100
END:STANDARD
END:VTIMEZONE
END:VCALENDAR
