BEGIN:VCALENDAR
PRODID:-//eluceo/ical//2.0/EN
VERSION:2.0
CALSCALE:GREGORIAN
BEGIN:VEVENT
UID:2e2202f6a4f0f0fff9a2a28051305e8c
DTSTAMP:20260422T085641Z
SUMMARY:Offener Treff für Bildungsbegleiter*innen
DESCRIPTION:Wir laden unsere Ehrenamtler*innen des Projektes Bildungsbeglei
 tung herzlich ein zum Austausch bei Kaffee und Kuchen.\nJeden 2. Montag im
  Monat
URL:https://buero-kindermut.de/de/veranstaltung/offener-treff-fuer-bildungs
 begleiter-innen-4/
DTSTART:20260413T170000
DTEND:20260413T170000
LOCATION:AWO Café Integra
END:VEVENT
BEGIN:VTIMEZONE
TZID:Europe/Berlin
BEGIN:DAYLIGHT
DTSTART:20260413T170000
TZNAME:CEST
TZOFFSETTO:+0200
TZOFFSETFROM:+0200
END:DAYLIGHT
END:VTIMEZONE
END:VCALENDAR
