BEGIN:VCALENDAR
PRODID:-//eluceo/ical//2.0/EN
VERSION:2.0
CALSCALE:GREGORIAN
BEGIN:VEVENT
UID:cccee0da8e5c0a048f8648b2bcb530a5
DTSTAMP:20260421T143224Z
SUMMARY:Offener Treff für Bildungsbegleiter*innen
DESCRIPTION:Wir laden unsere Ehrenamtler*innen des Projektes Bildungsbeglei
 tung herzlich ein zum Austausch bei Kaffee und Kuchen.\nJeden 2. Montag im
  Monat
URL:https://buero-kindermut.de/de/veranstaltung/offener-treff-fuer-bildungs
 begleiter-innen/
DTSTART:20260112T170000
DTEND:20260112T170000
LOCATION:AWO Café Integra
END:VEVENT
BEGIN:VTIMEZONE
TZID:Europe/Berlin
BEGIN:STANDARD
DTSTART:20260112T170000
TZNAME:CET
TZOFFSETTO:+0100
TZOFFSETFROM:+0100
END:STANDARD
END:VTIMEZONE
END:VCALENDAR
