BEGIN:VCALENDAR
PRODID:-//eluceo/ical//2.0/EN
VERSION:2.0
CALSCALE:GREGORIAN
BEGIN:VEVENT
UID:e450cde86c0fd5fdf5f66d493b7d7f1f
DTSTAMP:20260423T104014Z
SUMMARY:Schultütenbasteln für Eltern
DESCRIPTION:Auch in diesem Jahr laden wir Eltern von Einschulungskindern da
 zu ein\, kostenfrei eine ganz individuelle Schultüte für ihr Kind zu bas
 teln. Ob mit Sternen\, Blumen\, Kreisen beklebt\, bemalt oder mit anderen 
 Materialien verziert: Schenken Sie ihren Kindern etwas ganz Besonderes zu 
 ihrem großen Tag!\nWir freuen uns über eine Voranmeldung an: buero-kinde
 rmut@awo-potsdam.de oder Tel.: 0331/ 200 76 310
URL:https://buero-kindermut.de/de/veranstaltung/schultuetenbasteln-fuer-elt
 ern-6/
DTSTART:20240610T090000
DTEND:20240610T130000
LOCATION:Haus der Begegnung Waldstadt
END:VEVENT
BEGIN:VTIMEZONE
TZID:Europe/Berlin
BEGIN:DAYLIGHT
DTSTART:20240610T090000
TZNAME:CEST
TZOFFSETTO:+0200
TZOFFSETFROM:+0200
END:DAYLIGHT
END:VTIMEZONE
END:VCALENDAR
