BEGIN:VCALENDAR
PRODID:-//eluceo/ical//2.0/EN
VERSION:2.0
CALSCALE:GREGORIAN
BEGIN:VEVENT
UID:1001a512ecbed65ee94579ea6f87479c
DTSTAMP:20260422T110900Z
SUMMARY:Stadtteilfrühstück Stern/Drewitz
DESCRIPTION:Kostenfreies Stadtteilfrühstück im oskar. Das Begegnungszentr
 um in der Gartenstadt Drewitz\n... gemeinsam essen\, trinken\, plauschen..
 . genießen... neue Kontakte knüpfen... zum Kaffee Zeitung lesen... Anspr
 echpartner*innen haben - auf ein offenes Ohr treffen (AWO Büro KINDER(ar)
 MUT)... Sozialberatung vor Ort (Beratung zu den Bildungs- und Teilhabe-Lei
 stungen)
URL:https://buero-kindermut.de/de/veranstaltung/stadtteilfruehstueck-oskar-
 stern-drewitz/
DTSTART:20250910T080000
DTEND:20250910T110000
LOCATION:oskar.DAS BEGEGNUNGSZENTRUM IN DER GARTENSTADT
END:VEVENT
BEGIN:VTIMEZONE
TZID:Europe/Berlin
BEGIN:DAYLIGHT
DTSTART:20250910T080000
TZNAME:CEST
TZOFFSETTO:+0200
TZOFFSETFROM:+0200
END:DAYLIGHT
END:VTIMEZONE
END:VCALENDAR
