BEGIN:VCALENDAR
PRODID:-//eluceo/ical//2.0/EN
VERSION:2.0
CALSCALE:GREGORIAN
BEGIN:VEVENT
UID:1eb22b919daccde7d28533b8338ee138
DTSTAMP:20260422T090406Z
SUMMARY:Stadtteilfrühstück Waldstadt
DESCRIPTION:Kostenfreies Stadtteilfrühstück im Haus der Begegnung:\n\n...
  gemeinsam essen\, trinken\, plauschen\n... genießen\n... neue Kontakte k
 nüpfen\n... zum Kaffee Zeitung lesen\n... Ansprechpartner*innen haben - a
 uf ein offenes Ohr treffen (AWO Büro KINDER(ar)MUT)\n... Sozialberatung v
 or Ort (Beratung zu den Bildungs- und Teilhabe-Leistungen sowie Mutter-/Va
 ter-Kind-Kurberatung)\n
URL:https://buero-kindermut.de/de/veranstaltung/stadtteilfruehstueck-waldst
 adt/
DTSTART:20240902T080000
DTEND:20240902T110000
LOCATION:Haus der Begegnung
END:VEVENT
BEGIN:VTIMEZONE
TZID:Europe/Berlin
BEGIN:DAYLIGHT
DTSTART:20240902T080000
TZNAME:CEST
TZOFFSETTO:+0200
TZOFFSETFROM:+0200
END:DAYLIGHT
END:VTIMEZONE
END:VCALENDAR
